BEGIN:VCALENDAR
VERSION:2.0
PRODID:-//WP EVENT Manager Ical//NONSGML Events //EN
CALSCALE:GREGORIAN

BEGIN:VEVENT

DTSTART:20250911T103000AMZ
DTEND:Z
LOCATION:The Royal Glamorgan Hospital, Llantrisant
SUMMARY:See the 'mini-hospital' created in just nine weeks and hear how it was achieved
DESCRIPTION:Following a critical incident, Cwm Taf Morgannwg UHB and Vanguard collaborated to build a facility, comprising four operating theatres, two wards and an endoscopy complex.
On 11th September, you are invited to come and hear how this was achieved, and to tour the facility at The Royal Glamorgan Hospital, Llantrisant, CF72 8XR

Gethin Hughes, Chief Operating Officer, CTM UHB, will explain how the Health Board reacted to protect patient services during the emergency refurbishment and closure of theatres and wards at The Princess of Wales Hospital.
Lindsay Dransfield, Chief Commercial Officer, Vanguard, will outline the capabilities that made Vanguard the CTM UHB’s choice of collaborator for this vital project.

Agenda: 10.30 Arrive (Coffee)11.00 Presentations, Q&A12.00 Tours of the Surgical Suite12.30 Lunch13.30 Close

Places at this event are intended only for employees of healthcare providing organisations.
Places are limited. Please book now to avoid disappointment.

END:VEVENT
END:VCALENDAR